{"text_format":"3","workbook":"xlsx","n_sheets":1,"sheets":["直接面试"],"not_rendered":{"external_links":1},"read":"whole","date_system":"1900"}

{"sheet":"直接面试","index":0,"n_rows":112,"n_cols":9,"rows_kept":112,"merged":[[1,0,1,8]]}
["附件2："]
["南宁市2026年公开考试招聘事业单位工作人员直接面试岗位表"]
["序号","主管部门","招聘单位","岗位名称","岗位编码","招聘人数\n（核减后）","报考成功人数是否超过24人（不含24人）","是否增加公共科目笔试","招聘单位联系电话"]
[1,"南宁市工业和信息化局","南宁市工业促进和中小企业服务中心","投融资项目统计分析岗位","1450100024",1,"否","否",{"$f":"VLOOKUP(E4,[1]交费人数低于24人的直接面试岗位!$G:$AF,26,0)","v":"0771-3149857"}]
[2,"南宁市卫生健康委员会","南宁市第三人民医院","行政干事（聘用人员控制数）","1450100238",1,"否","否",{"$f":"VLOOKUP(E5,[1]交费人数低于24人的直接面试岗位!$G:$AF,26,0)","v":"0771-3183136"}]
[3,"南宁市工业和信息化局","南宁市工业促进和中小企业服务中心","产业促进服务岗位 ","1450100022",1,"否","否",{"$f":"VLOOKUP(E6,[1]交费人数低于24人的直接面试岗位!$G:$AF,26,0)","v":"0771-3149857"}]
[4,"南宁市机关事务管理局","南宁市直属机关保育院","保健医生（聘用教师控制数）","1450100396",1,"否","否",{"$f":"VLOOKUP(E7,[1]交费人数低于24人的直接面试岗位!$G:$AF,26,0)","v":"0771-5603631"}]
[5,"南宁市融媒体中心","南宁市融媒体中心","采编专业技术人员","1450100406",2,"否","否",{"$f":"VLOOKUP(E8,[1]交费人数低于24人的直接面试岗位!$G:$AF,26,0)","v":"0771-5641690,0771-5719069"}]
[6,"南宁市人力资源和社会保障局","广西南宁技师学院","党办工作人员（中职学校教职人员控制数）","1450100128",1,"否","否",{"$f":"VLOOKUP(E9,[1]交费人数低于24人的直接面试岗位!$G:$AF,26,0)","v":"0771-5680509"}]
[7,"南宁市人力资源和社会保障局","广西南宁技师学院","数字媒体技术应用专业教师","1450100119",1,"否","否",{"$f":"VLOOKUP(E10,[1]交费人数低于24人的直接面试岗位!$G:$AF,26,0)","v":"0771-5680509"}]
[8,"南宁市教育局","南宁市第一职业技术学校","校医（教职人员控制数）","1450100033",2,"否","否",{"$f":"VLOOKUP(E11,[1]交费人数低于24人的直接面试岗位!$G:$AF,26,0)","v":"0771-2418141"}]
[9,"南宁市教育局","南宁市第六职业技术学校","总务科干事（教职人员控制数）","1450100050",1,"否","否",{"$f":"VLOOKUP(E12,[1]交费人数低于24人的直接面试岗位!$G:$AF,26,0)","v":"0771-2812445"}]
[10,"南宁市卫生健康委员会","南宁市第九人民医院（南宁市卫生学校附属医院）","主管护师二（聘用人员控制数）","1450100303",4,"否","否",{"$f":"VLOOKUP(E13,[1]交费人数低于24人的直接面试岗位!$G:$AF,26,0)","v":"0771-8206255"}]
[11,"南宁市卫生健康委员会","南宁市第三人民医院","主管药师（聘用人员控制数）","1450100236",1,"否","否",{"$f":"VLOOKUP(E14,[1]交费人数低于24人的直接面试岗位!$G:$AF,26,0)","v":"0771-3183136"}]
[12,"南宁市卫生健康委员会","南宁市第四人民医院","传染科医师二（聘用人员控制数）","1450100244",6,"否","否",{"$f":"VLOOKUP(E15,[1]交费人数低于24人的直接面试岗位!$G:$AF,26,0)","v":"\n0771-5656083"}]
[13,"南宁市卫生健康委员会","南宁市第九人民医院（南宁市卫生学校附属医院）","主管护师一\n（聘用人员控制数）","1450100302",3,"否","否",{"$f":"VLOOKUP(E16,[1]交费人数低于24人的直接面试岗位!$G:$AF,26,0)","v":"0771-8206255"}]
[14,"中共南宁市委政法委员会","南宁市社会治安综合治理中心","数据管理专员","1450100006",1,"否","否",{"$f":"VLOOKUP(E17,[1]交费人数低于24人的直接面试岗位!$G:$AF,26,0)","v":"\n0771-2843952"}]
[15,"南宁市人力资源和社会保障局","广西南宁技师学院","会计专业教师","1450100121",1,"否","否",{"$f":"VLOOKUP(E18,[1]交费人数低于24人的直接面试岗位!$G:$AF,26,0)","v":"0771-5680509"}]
[16,"南宁市人力资源和社会保障局","广西南宁技师学院","音乐学专业教师二（中职学校教职人员控制数）","1450100126",4,"否","否",{"$f":"VLOOKUP(E19,[1]交费人数低于24人的直接面试岗位!$G:$AF,26,0)","v":"0771-5680509"}]
[17,"中共南宁市委政法委员会","南宁市社会治安综合治理中心","系统研发专员","1450100007",1,"否","否",{"$f":"VLOOKUP(E20,[1]交费人数低于24人的直接面试岗位!$G:$AF,26,0)","v":"\n0771-2843952"}]
[18,"南宁市人力资源和社会保障局","广西南宁技师学院","机械专业教学辅助（中职学校教职人员控制数）","1450100144",4,"否","否",{"$f":"VLOOKUP(E21,[1]交费人数低于24人的直接面试岗位!$G:$AF,26,0)","v":"0771-5680509"}]
[19,"南宁市融媒体中心","南宁市融媒体中心","新闻采编岗一","1450100404",2,"否","否",{"$f":"VLOOKUP(E22,[1]交费人数低于24人的直接面试岗位!$G:$AF,26,0)","v":"0771-5641690,0771-5719069"}]
[20,"南宁市人力资源和社会保障局","广西南宁技师学院","护理学专业教师","1450100116",1,"否","否",{"$f":"VLOOKUP(E23,[1]交费人数低于24人的直接面试岗位!$G:$AF,26,0)","v":"0771-5680509"}]
[21,"南宁市融媒体中心","南宁市融媒体中心","新闻采编岗二","1450100405",2,"否","否",{"$f":"VLOOKUP(E24,[1]交费人数低于24人的直接面试岗位!$G:$AF,26,0)","v":"0771-5641690,0771-5719069"}]
[22,"南宁市人力资源和社会保障局","广西南宁技师学院","机械类专业教师","1450100117",3,"否","否",{"$f":"VLOOKUP(E25,[1]交费人数低于24人的直接面试岗位!$G:$AF,26,0)","v":"0771-5680509"}]
[23,"南宁市邕宁区人力资源和社会保障局","南宁市邕宁区中医医院","内科医师","1450101259",2,"否","否",{"$f":"VLOOKUP(E26,[1]交费人数低于24人的直接面试岗位!$G:$AF,26,0)","v":"0771-4791578"}]
[24,"中共南宁市委政法委员会","南宁市社会治安综合治理中心","网络保障专员","1450100008",1,"否","否",{"$f":"VLOOKUP(E27,[1]交费人数低于24人的直接面试岗位!$G:$AF,26,0)","v":"\n0771-2843952"}]
[25,"南宁市人力资源和社会保障局","广西南宁技师学院","电子商务专业教师","1450100120",1,"否","否",{"$f":"VLOOKUP(E28,[1]交费人数低于24人的直接面试岗位!$G:$AF,26,0)","v":"0771-5680509"}]
[26,"南宁市人力资源和社会保障局","广西南宁技师学院","教育学专业教学辅助（中职学校教职人员控制数）","1450100140",1,"否","否",{"$f":"VLOOKUP(E29,[1]交费人数低于24人的直接面试岗位!$G:$AF,26,0)","v":"0771-5680509"}]
[27,"南宁市卫生健康委员会","南宁市中医医院","人事科干事","1450100325",1,"否","否",{"$f":"VLOOKUP(E30,[1]交费人数低于24人的直接面试岗位!$G:$AF,26,0)","v":"0771-3956001"}]
[28,"南宁市卫生健康委员会","南宁市妇幼保健院","儿科主治医师（聘用人员控制数）","1450100330",2,"否","否",{"$f":"VLOOKUP(E31,[1]交费人数低于24人的直接面试岗位!$G:$AF,26,0)","v":"0771-2426749"}]
[29,"南宁市邕宁区人力资源和社会保障局","南宁市邕宁区百济镇中心卫生院","护士二","1450101279",1,"否","否",{"$f":"VLOOKUP(E32,[1]交费人数低于24人的直接面试岗位!$G:$AF,26,0)","v":"0771-4791578"}]
[30,"南宁市人力资源和社会保障局","广西南宁技师学院","人工智能专业教师一","1450100111",1,"否","否",{"$f":"VLOOKUP(E33,[1]交费人数低于24人的直接面试岗位!$G:$AF,26,0)","v":"0771-5680509"}]
[31,"南宁市人力资源和社会保障局","广西南宁技师学院","针灸推拿专业教师","1450100114",1,"否","否",{"$f":"VLOOKUP(E34,[1]交费人数低于24人的直接面试岗位!$G:$AF,26,0)","v":"0771-5680509"}]
[32,"南宁市人力资源和社会保障局","广西南宁技师学院","食品与营养专业教师（中职学校教职人员控制数）","1450100124",1,"否","否",{"$f":"VLOOKUP(E35,[1]交费人数低于24人的直接面试岗位!$G:$AF,26,0)","v":"0771-5680509"}]
[33,"南宁市人力资源和社会保障局","广西南宁技师学院","信息管理专业教师（中职学校教职人员控制数）","1450100134",2,"否","否",{"$f":"VLOOKUP(E36,[1]交费人数低于24人的直接面试岗位!$G:$AF,26,0)","v":"0771-5680509"}]
[34,"南宁市人力资源和社会保障局","广西南宁技师学院","汽车服务工程专业教师（中职学校教职人员控制数）","1450100145",1,"否","否",{"$f":"VLOOKUP(E37,[1]交费人数低于24人的直接面试岗位!$G:$AF,26,0)","v":"0771-5680509"}]
[35,"南宁市人力资源和社会保障局","广西南宁技师学院","汽车技术运用专业教学辅助（中职学校教职人员控制数）","1450100146",1,"否","否",{"$f":"VLOOKUP(E38,[1]交费人数低于24人的直接面试岗位!$G:$AF,26,0)","v":"0771-5680509"}]
[36,"南宁市卫生健康委员会","南宁市第四人民医院","功能科医师（聘用人员控制数）","1450100242",1,"否","否",{"$f":"VLOOKUP(E39,[1]交费人数低于24人的直接面试岗位!$G:$AF,26,0)","v":"\n0771-5656083"}]
[37,"南宁市卫生健康委员会","南宁市妇幼保健院","妇产科主治医师（聘用人员控制数）","1450100329",2,"否","否",{"$f":"VLOOKUP(E40,[1]交费人数低于24人的直接面试岗位!$G:$AF,26,0)","v":"0771-2426749"}]
[38,"南宁市卫生健康委员会","南宁急救医疗中心","医师","1450100378",2,"否","否",{"$f":"VLOOKUP(E41,[1]交费人数低于24人的直接面试岗位!$G:$AF,26,0)","v":"0771-5739747"}]
[39,"南宁市卫生健康委员会","南宁市口腔医院","口腔医师","1450100383",2,"否","否",{"$f":"VLOOKUP(E42,[1]交费人数低于24人的直接面试岗位!$G:$AF,26,0)","v":"0771-2613525"}]
[40,"南宁市融媒体中心","南宁市融媒体中心","全媒体工程师","1450100407",2,"否","否",{"$f":"VLOOKUP(E43,[1]交费人数低于24人的直接面试岗位!$G:$AF,26,0)","v":"0771-5641690,0771-5719069"}]
[41,"南宁市人力资源和社会保障局","广西南宁技师学院","人工智能专业教师二（中职学校教职人员控制数）","1450100122",1,"否","否",{"$f":"VLOOKUP(E44,[1]交费人数低于24人的直接面试岗位!$G:$AF,26,0)","v":"0771-5680509"}]
[42,"南宁市人力资源和社会保障局","广西南宁技师学院","财务管理专业教师（中职学校教职人员控制数）","1450100129",1,"否","否",{"$f":"VLOOKUP(E45,[1]交费人数低于24人的直接面试岗位!$G:$AF,26,0)","v":"0771-5680509"}]
[43,"南宁市人力资源和社会保障局","广西南宁技师学院","体育专业教师（中职学校教职人员控制数）","1450100131",2,"否","否",{"$f":"VLOOKUP(E46,[1]交费人数低于24人的直接面试岗位!$G:$AF,26,0)","v":"0771-5680509"}]
[44,"南宁市人力资源和社会保障局","广西南宁技师学院","车辆工程专业教学辅助（中职学校教职人员控制数）","1450100147",1,"否","否",{"$f":"VLOOKUP(E47,[1]交费人数低于24人的直接面试岗位!$G:$AF,26,0)","v":"0771-5680509"}]
[45,"南宁市卫生健康委员会","南宁市第九人民医院（南宁市卫生学校附属医院）","西医师","1450100299",1,"否","否",{"$f":"VLOOKUP(E48,[1]交费人数低于24人的直接面试岗位!$G:$AF,26,0)","v":"0771-8206255"}]
[46,"宾阳县人力资源和社会保障局","宾阳县人民医院","外科医师二","1450100670",2,"否","否",{"$f":"VLOOKUP(E49,[1]交费人数低于24人的直接面试岗位!$G:$AF,26,0)","v":"0771-8255635"}]
[47,"南宁市教育局","南宁市第一职业技术学校","培训科档案员（教职人员控制数）","1450100037",1,"否","否",{"$f":"VLOOKUP(E50,[1]交费人数低于24人的直接面试岗位!$G:$AF,26,0)","v":"0771-2418141"}]
[48,"南宁市人力资源和社会保障局","广西南宁技师学院","新能源动力专业教师","1450100113",1,"否","否",{"$f":"VLOOKUP(E51,[1]交费人数低于24人的直接面试岗位!$G:$AF,26,0)","v":"0771-5680509"}]
[49,"南宁市人力资源和社会保障局","广西南宁技师学院","旅游管理专业高级教师（中职学校教职人员控制数）","1450100143",1,"否","否",{"$f":"VLOOKUP(E52,[1]交费人数低于24人的直接面试岗位!$G:$AF,26,0)","v":"0771-5680509"}]
[50,"南宁市卫生健康委员会","南宁市第三人民医院","口腔科主治医师（聘用人员控制数）","1450100232",1,"否","否",{"$f":"VLOOKUP(E53,[1]交费人数低于24人的直接面试岗位!$G:$AF,26,0)","v":"0771-3183136"}]
[51,"南宁市卫生健康委员会","南宁市妇幼保健院","口腔科主治医师（聘用人员控制数）","1450100333",1,"否","否",{"$f":"VLOOKUP(E54,[1]交费人数低于24人的直接面试岗位!$G:$AF,26,0)","v":"0771-2426749"}]
[52,"南宁市卫生健康委员会","南宁市妇幼保健院","麻醉科主治医师（聘用人员控制数）","1450100334",1,"否","否",{"$f":"VLOOKUP(E55,[1]交费人数低于24人的直接面试岗位!$G:$AF,26,0)","v":"0771-2426749"}]
[53,"横州市人力资源和社会保障局","横州市中医医院","检验科技师","1450100473",1,"否","否",{"$f":"VLOOKUP(E56,[1]交费人数低于24人的直接面试岗位!$G:$AF,26,0)","v":"0771-7227469/7211946"}]
[54,"隆安县人力资源和社会保障局","隆安县中医医院","内科医生一","1450101014",1,"否","否",{"$f":"VLOOKUP(E57,[1]交费人数低于24人的直接面试岗位!$G:$AF,26,0)","v":"0771-6522631，0771-6521050"}]
[55,"南宁市教育局","南宁市第一职业技术学校","汽修实训室管理员（教职人员控制数）","1450100031",1,"否","否",{"$f":"VLOOKUP(E58,[1]交费人数低于24人的直接面试岗位!$G:$AF,26,0)","v":"0771-2418141"}]
[56,"南宁市人力资源和社会保障局","广西南宁技师学院","电子信息专业教师（中职学校教职人员控制数）","1450100132",1,"否","否",{"$f":"VLOOKUP(E59,[1]交费人数低于24人的直接面试岗位!$G:$AF,26,0)","v":"0771-5680509"}]
[57,"南宁市人力资源和社会保障局","广西南宁技师学院","艺术设计专业教师（中职学校教职人员控制数）","1450100136",1,"否","否",{"$f":"VLOOKUP(E60,[1]交费人数低于24人的直接面试岗位!$G:$AF,26,0)","v":"0771-5680509"}]
[58,"南宁市人力资源和社会保障局","广西南宁技师学院","思想政治专业教师（中职学校教职人员控制数）","1450100139",1,"否","否",{"$f":"VLOOKUP(E61,[1]交费人数低于24人的直接面试岗位!$G:$AF,26,0)","v":"0771-5680509"}]
[59,"南宁市人力资源和社会保障局","广西南宁技师学院","汽车维修专业教学辅助（中职学校教职人员控制数）","1450100142",1,"否","否",{"$f":"VLOOKUP(E62,[1]交费人数低于24人的直接面试岗位!$G:$AF,26,0)","v":"0771-5680509"}]
[60,"南宁市卫生健康委员会","南宁市第三人民医院","消化内科主治医师（聘用人员控制数）","1450100229",1,"否","否",{"$f":"VLOOKUP(E63,[1]交费人数低于24人的直接面试岗位!$G:$AF,26,0)","v":"0771-3183136"}]
[61,"南宁市卫生健康委员会","南宁市妇幼保健院","中医科主治医师（聘用人员控制数）","1450100332",1,"否","否",{"$f":"VLOOKUP(E64,[1]交费人数低于24人的直接面试岗位!$G:$AF,26,0)","v":"0771-2426749"}]
[62,"横州市人力资源和社会保障局","横州市人民医院","肿瘤内科医师","1450100467",1,"否","否",{"$f":"VLOOKUP(E65,[1]交费人数低于24人的直接面试岗位!$G:$AF,26,0)","v":"0771-7227469/7211946"}]
[63,"南宁市兴宁区人力资源和社会保障局","南宁市兴宁区嘉和城社区卫生服务中心","临终关怀医师","1450101113",1,"否","否",{"$f":"VLOOKUP(E66,[1]交费人数低于24人的直接面试岗位!$G:$AF,26,0)","v":"0771-3211965"}]
[64,"南宁市邕宁区人力资源和社会保障局","南宁市邕宁区蒲庙镇卫生院","中医医师","1450101269",1,"否","否",{"$f":"VLOOKUP(E67,[1]交费人数低于24人的直接面试岗位!$G:$AF,26,0)","v":"0771-4791578"}]
[65,"南宁市教育局","南宁市第一职业技术学校","烹饪实验员三（教职人员控制数）","1450100027",1,"否","否",{"$f":"VLOOKUP(E68,[1]交费人数低于24人的直接面试岗位!$G:$AF,26,0)","v":"0771-2418141"}]
[66,"南宁市教育局","南宁市第一职业技术学校","旅游实训室管理员一（教职人员控制数）","1450100029",1,"否","否",{"$f":"VLOOKUP(E69,[1]交费人数低于24人的直接面试岗位!$G:$AF,26,0)","v":"0771-2418141"}]
[67,"南宁市教育局","南宁市第一职业技术学校","计算机实训室管理员一（教职人员控制数）","1450100035",1,"否","否",{"$f":"VLOOKUP(E70,[1]交费人数低于24人的直接面试岗位!$G:$AF,26,0)","v":"0771-2418141"}]
[68,"南宁市教育局","南宁市第六职业技术学校","计算机实训室管理员二（教职人员控制数）","1450100046",1,"否","否",{"$f":"VLOOKUP(E71,[1]交费人数低于24人的直接面试岗位!$G:$AF,26,0)","v":"0771-2812445"}]
[69,"南宁市教育局","南宁市第六职业技术学校","物流实训室管理员（教职人员控制数）","1450100048",1,"否","否",{"$f":"VLOOKUP(E72,[1]交费人数低于24人的直接面试岗位!$G:$AF,26,0)","v":"0771-2812445"}]
[70,"南宁市教育局","南宁市第六职业技术学校","文旅实训室管理员（教职人员控制数）","1450100049",1,"否","否",{"$f":"VLOOKUP(E73,[1]交费人数低于24人的直接面试岗位!$G:$AF,26,0)","v":"0771-2812445"}]
[71,"南宁市人力资源和社会保障局","广西南宁技师学院","智能制造专业教师","1450100110",1,"否","否",{"$f":"VLOOKUP(E74,[1]交费人数低于24人的直接面试岗位!$G:$AF,26,0)","v":"0771-5680509"}]
[72,"南宁市人力资源和社会保障局","广西南宁技师学院","中医专业教师","1450100115",1,"否","否",{"$f":"VLOOKUP(E75,[1]交费人数低于24人的直接面试岗位!$G:$AF,26,0)","v":"0771-5680509"}]
[73,"南宁市人力资源和社会保障局","广西南宁技师学院","智能汽车专业教学辅助（中职学校教职人员控制数）","1450100123",1,"否","否",{"$f":"VLOOKUP(E76,[1]交费人数低于24人的直接面试岗位!$G:$AF,26,0)","v":"0771-5680509"}]
[74,"南宁市人力资源和社会保障局","广西南宁技师学院","音乐学专业教师一（中职学校教职人员控制数）","1450100125",1,"否","否",{"$f":"VLOOKUP(E77,[1]交费人数低于24人的直接面试岗位!$G:$AF,26,0)","v":"0771-5680509"}]
[75,"南宁市人力资源和社会保障局","广西南宁技师学院","中药学专业教师（中职学校教职人员控制数）","1450100127",1,"否","否",{"$f":"VLOOKUP(E78,[1]交费人数低于24人的直接面试岗位!$G:$AF,26,0)","v":"0771-5680509"}]
[76,"南宁市人力资源和社会保障局","广西南宁技师学院","法学专业教师（中职学校教职人员控制数）","1450100133",1,"否","否",{"$f":"VLOOKUP(E79,[1]交费人数低于24人的直接面试岗位!$G:$AF,26,0)","v":"0771-5680509"}]
[77,"南宁市人力资源和社会保障局","广西南宁技师学院","服装设计专业教师（中职学校教职人员控制数）","1450100135",1,"否","否",{"$f":"VLOOKUP(E80,[1]交费人数低于24人的直接面试岗位!$G:$AF,26,0)","v":"0771-5680509"}]
[78,"南宁市人力资源和社会保障局","广西南宁技师学院","物流管理专业教学辅助（中职学校教职人员控制数）","1450100137",1,"否","否",{"$f":"VLOOKUP(E81,[1]交费人数低于24人的直接面试岗位!$G:$AF,26,0)","v":"0771-5680509"}]
[79,"南宁市卫生健康委员会","南宁市第三人民医院","心内科主治医师（聘用人员控制数）","1450100228",1,"否","否",{"$f":"VLOOKUP(E82,[1]交费人数低于24人的直接面试岗位!$G:$AF,26,0)","v":"0771-3183136"}]
[80,"南宁市卫生健康委员会","南宁市第三人民医院","妇科主治医师（聘用人员控制数","1450100231",1,"否","否",{"$f":"VLOOKUP(E83,[1]交费人数低于24人的直接面试岗位!$G:$AF,26,0)","v":"0771-3183136"}]
[81,"南宁市卫生健康委员会","南宁市第九人民医院（南宁市卫生学校附属医院）","中医师","1450100301",1,"否","否",{"$f":"VLOOKUP(E84,[1]交费人数低于24人的直接面试岗位!$G:$AF,26,0)","v":"0771-8206255"}]
[82,"南宁市卫生健康委员会","南宁市中医医院","脑病科医师（二）（聘用人员控制数）","1450100316",1,"否","否",{"$f":"VLOOKUP(E85,[1]交费人数低于24人的直接面试岗位!$G:$AF,26,0)","v":"0771-3956001"}]
[83,"南宁市卫生健康委员会","南宁市中医医院","内分泌·老年病科医师（聘用人员控制数）","1450100317",1,"否","否",{"$f":"VLOOKUP(E86,[1]交费人数低于24人的直接面试岗位!$G:$AF,26,0)","v":"0771-3956001"}]
[84,"南宁市卫生健康委员会","南宁市中医医院","儿科医师（二）（聘用人员控制数）","1450100321",1,"否","否",{"$f":"VLOOKUP(E87,[1]交费人数低于24人的直接面试岗位!$G:$AF,26,0)","v":"0771-3956001"}]
[85,"南宁市卫生健康委员会","南宁市妇幼保健院","眼耳鼻咽喉头颈外科主治医师(聘用人员控制数)","1450100335",1,"否","否",{"$f":"VLOOKUP(E88,[1]交费人数低于24人的直接面试岗位!$G:$AF,26,0)","v":"0771-2426749"}]
[86,"南宁市卫生健康委员会","南宁市妇幼保健院","内科主治医师(聘用人员控制数)","1450100336",1,"否","否",{"$f":"VLOOKUP(E89,[1]交费人数低于24人的直接面试岗位!$G:$AF,26,0)","v":"0771-2426749"}]
[87,"南宁市卫生健康委员会","南宁市红十字会医院","骨科医师","1450100344",1,"否","否",{"$f":"VLOOKUP(E90,[1]交费人数低于24人的直接面试岗位!$G:$AF,26,0)","v":"0771-2326468"}]
[88,"南宁市卫生健康委员会","南宁市卫生学校","教辅人员（口腔）","1450100351",1,"否","否",{"$f":"VLOOKUP(E91,[1]交费人数低于24人的直接面试岗位!$G:$AF,26,0)","v":"0771-3370603"}]
[89,"南宁市外事办公室","南宁市外事翻译室","越南语翻译","1450100392",1,"否","否",{"$f":"VLOOKUP(E92,[1]交费人数低于24人的直接面试岗位!$G:$AF,26,0)","v":"0771-5389167"}]
[90,"南宁市文学艺术界联合会","南宁书画院","综合文职","1450100401",1,"否","否",{"$f":"VLOOKUP(E93,[1]交费人数低于24人的直接面试岗位!$G:$AF,26,0)","v":"0771-5624018"}]
[91,"横州市人力资源和社会保障局","横州市人民医院","心电图医师","1450100470",1,"否","否",{"$f":"VLOOKUP(E94,[1]交费人数低于24人的直接面试岗位!$G:$AF,26,0)","v":"0771-7227469/7211946"}]
[92,"横州市人力资源和社会保障局","横州市中医医院","超声科医师","1450100472",1,"否","否",{"$f":"VLOOKUP(E95,[1]交费人数低于24人的直接面试岗位!$G:$AF,26,0)","v":"0771-7227469/7211946"}]
[93,"南宁市兴宁区人力资源和社会保障局","南宁市兴宁区嘉和城社区卫生服务中心","妇科医师","1450101112",1,"否","否",{"$f":"VLOOKUP(E96,[1]交费人数低于24人的直接面试岗位!$G:$AF,26,0)","v":"0771-3211965"}]
[94,"南宁市邕宁区人力资源和社会保障局","南宁市邕宁区中医医院","康复科医师（二）","1450101256",1,"否","否",{"$f":"VLOOKUP(E97,[1]交费人数低于24人的直接面试岗位!$G:$AF,26,0)","v":"0771-4791578"}]
[95,"南宁市人力资源和社会保障局","广西南宁技师学院","金融学专业教师（中职学校教职人员控制数）","1450100141",1,"否","否",{"$f":"VLOOKUP(E98,[1]交费人数低于24人的直接面试岗位!$G:$AF,26,0)","v":"0771-5680509"}]
[96,"南宁市卫生健康委员会","南宁市第三人民医院","神经内科主治医师（聘用人员控制数）","1450100227",1,"否","否",{"$f":"VLOOKUP(E99,[1]交费人数低于24人的直接面试岗位!$G:$AF,26,0)","v":"0771-3183136"}]
[97,"南宁市卫生健康委员会","南宁市第三人民医院","外科主治医师（聘用人员控制数）","1450100234",1,"否","否",{"$f":"VLOOKUP(E100,[1]交费人数低于24人的直接面试岗位!$G:$AF,26,0)","v":"0771-3183136"}]
[98,"南宁市卫生健康委员会","南宁市第四人民医院","传染科医师一（聘用人员控制数）","1450100243",1,"否","否",{"$f":"VLOOKUP(E101,[1]交费人数低于24人的直接面试岗位!$G:$AF,26,0)","v":"\n0771-5656083"}]
[99,"南宁市卫生健康委员会","南宁市第九人民医院（南宁市卫生学校附属医院）","口腔科医师","1450100300",1,"否","否",{"$f":"VLOOKUP(E102,[1]交费人数低于24人的直接面试岗位!$G:$AF,26,0)","v":"0771-8206255"}]
[100,"南宁市卫生健康委员会","南宁市中医医院","重症医学科医师（聘用人员控制数）","1450100319",1,"否","否",{"$f":"VLOOKUP(E103,[1]交费人数低于24人的直接面试岗位!$G:$AF,26,0)","v":"0771-3956001"}]
[101,"南宁市卫生健康委员会","南宁市中医医院","皮肤科医师（聘用人员控制数）","1450100320",1,"否","否",{"$f":"VLOOKUP(E104,[1]交费人数低于24人的直接面试岗位!$G:$AF,26,0)","v":"0771-3956001"}]
[102,"南宁市卫生健康委员会","南宁市中医医院","内科医师（二）（聘用人员控制数）","1450100322",1,"否","否",{"$f":"VLOOKUP(E105,[1]交费人数低于24人的直接面试岗位!$G:$AF,26,0)","v":"0771-3956001"}]
[103,"南宁市卫生健康委员会","南宁市中医医院","科教科干事（聘用人员控制数）","1450100324",1,"否","否",{"$f":"VLOOKUP(E106,[1]交费人数低于24人的直接面试岗位!$G:$AF,26,0)","v":"0771-3956001"}]
[104,"南宁市卫生健康委员会","南宁市红十字会医院","眼科医师","1450100343",1,"否","否",{"$f":"VLOOKUP(E107,[1]交费人数低于24人的直接面试岗位!$G:$AF,26,0)","v":"0771-2326468"}]
[105,"横州市人力资源和社会保障局","横州市疾病预防控制中心","公共卫生医师","1450100456",1,"否","否",{"$f":"VLOOKUP(E108,[1]交费人数低于24人的直接面试岗位!$G:$AF,26,0)","v":"0771-7227469/7211946"}]
[106,"横州市人力资源和社会保障局","横州市人民医院","重症医学科医师","1450100466",1,"否","否",{"$f":"VLOOKUP(E109,[1]交费人数低于24人的直接面试岗位!$G:$AF,26,0)","v":"0771-7227469/7211946"}]
[107,"横州市人力资源和社会保障局","横州市人民医院","呼吸内科医师","1450100468",1,"否","否",{"$f":"VLOOKUP(E110,[1]交费人数低于24人的直接面试岗位!$G:$AF,26,0)","v":"0771-7227469/7211946"}]
[108,"横州市人力资源和社会保障局","横州市人民医院","神经外科医师","1450100471",1,"否","否",{"$f":"VLOOKUP(E111,[1]交费人数低于24人的直接面试岗位!$G:$AF,26,0)","v":"0771-7227469/7211946"}]
[109,"南宁市邕宁区人力资源和社会保障局","南宁市邕宁区蒲庙镇卫生院","公共卫生医师","1450101271",1,"否","否",{"$f":"VLOOKUP(E112,[1]交费人数低于24人的直接面试岗位!$G:$AF,26,0)","v":"0771-4791578"}]